BEGIN:VCALENDAR
VERSION:2.0
PRODID:-//Ammonoosuc Valley Fish and Game Club - ECPv6.15.20//NONSGML v1.0//EN
CALSCALE:GREGORIAN
METHOD:PUBLISH
X-ORIGINAL-URL:https://avfgclubinc.org
X-WR-CALDESC:Events for Ammonoosuc Valley Fish and Game Club
REFRESH-INTERVAL;VALUE=DURATION:PT1H
X-Robots-Tag:noindex
X-PUBLISHED-TTL:PT1H
BEGIN:VTIMEZONE
TZID:America/New_York
BEGIN:DAYLIGHT
TZOFFSETFROM:-0500
TZOFFSETTO:-0400
TZNAME:EDT
DTSTART:20230312T070000
END:DAYLIGHT
BEGIN:STANDARD
TZOFFSETFROM:-0400
TZOFFSETTO:-0500
TZNAME:EST
DTSTART:20231105T060000
END:STANDARD
BEGIN:DAYLIGHT
TZOFFSETFROM:-0500
TZOFFSETTO:-0400
TZNAME:EDT
DTSTART:20240310T070000
END:DAYLIGHT
BEGIN:STANDARD
TZOFFSETFROM:-0400
TZOFFSETTO:-0500
TZNAME:EST
DTSTART:20241103T060000
END:STANDARD
BEGIN:DAYLIGHT
TZOFFSETFROM:-0500
TZOFFSETTO:-0400
TZNAME:EDT
DTSTART:20250309T070000
END:DAYLIGHT
BEGIN:STANDARD
TZOFFSETFROM:-0400
TZOFFSETTO:-0500
TZNAME:EST
DTSTART:20251102T060000
END:STANDARD
END:VTIMEZONE
BEGIN:VTIMEZONE
TZID:UTC
BEGIN:STANDARD
TZOFFSETFROM:+0000
TZOFFSETTO:+0000
TZNAME:UTC
DTSTART:20220101T000000
END:STANDARD
END:VTIMEZONE
BEGIN:VTIMEZONE
TZID:Africa/Johannesburg
BEGIN:STANDARD
TZOFFSETFROM:+0200
TZOFFSETTO:+0200
TZNAME:SAST
DTSTART:20230101T000000
END:STANDARD
END:VTIMEZONE
BEGIN:VEVENT
DTSTART;TZID=America/New_York:20240608T080000
DTEND;TZID=America/New_York:20240608T120000
DTSTAMP:20260423T132527
CREATED:20240120T191841Z
LAST-MODIFIED:20240120T191841Z
UID:166-1717833600-1717848000@avfgclubinc.org
SUMMARY:Kids Fishing Derby
DESCRIPTION:
URL:https://avfgclubinc.org/event/kids-fishing-derby/
LOCATION:AVFG Club House\, 1463 Wild Ammonoosuc Road\, Bath\, 03740\, United States
CATEGORIES:Kids Fishing Derby
ORGANIZER;CN="Don Clark":MAILTO:donclark603@gmail.com
END:VEVENT
BEGIN:VEVENT
DTSTART;TZID=America/New_York:20240501T190000
DTEND;TZID=America/New_York:20240501T200000
DTSTAMP:20260423T132527
CREATED:20240120T191339Z
LAST-MODIFIED:20240120T191339Z
UID:163-1714590000-1714593600@avfgclubinc.org
SUMMARY:May Monthly Meeting
DESCRIPTION:
URL:https://avfgclubinc.org/event/may-monthly-meeting/
LOCATION:AVFG Club House\, 1463 Wild Ammonoosuc Road\, Bath\, 03740\, United States
CATEGORIES:Monthly Meeting
ORGANIZER;CN="Gary Griswold":MAILTO:AVFG club.secretary@gmail.com
END:VEVENT
BEGIN:VEVENT
DTSTART;TZID=America/New_York:20240406T130000
DTEND;TZID=America/New_York:20240406T150000
DTSTAMP:20260423T132527
CREATED:20240120T191020Z
LAST-MODIFIED:20240120T191020Z
UID:161-1712408400-1712415600@avfgclubinc.org
SUMMARY:April Annual Meeting
DESCRIPTION:
URL:https://avfgclubinc.org/event/april-annual-meeting/
LOCATION:American Legion Hall\, 4 Ammonoosuc Street\, Woodsville\, 03785\, United States
CATEGORIES:Monthly Meeting
ORGANIZER;CN="Gary Griswold":MAILTO:AVFG club.secretary@gmail.com
END:VEVENT
BEGIN:VEVENT
DTSTART;TZID=UTC:20240306T190000
DTEND;TZID=UTC:20240306T200000
DTSTAMP:20260423T132527
CREATED:20240307T000046Z
LAST-MODIFIED:20240120T183643Z
UID:109-1709751600-1709755200@avfgclubinc.org
SUMMARY:March Monthly Meeting
DESCRIPTION:
URL:https://avfgclubinc.org/event/march-monthly-meeting/
LOCATION:American Legion Hall\, 4 Ammonoosuc Street\, Woodsville\, 03785\, United States
CATEGORIES:Monthly Meeting
ORGANIZER;CN="Gary Griswold":MAILTO:AVFG club.secretary@gmail.com
END:VEVENT
BEGIN:VEVENT
DTSTART;TZID=America/New_York:20240225T110000
DTEND;TZID=America/New_York:20240225T123000
DTSTAMP:20260423T132527
CREATED:20240120T193336Z
LAST-MODIFIED:20240120T193336Z
UID:177-1708858800-1708864200@avfgclubinc.org
SUMMARY:Trap Shooting
DESCRIPTION:
URL:https://avfgclubinc.org/event/trap-shooting-8/
LOCATION:AVFG Club Range\, 1463 Wild Ammonoosuc Road\, Bath\, 03740\, United States
CATEGORIES:Trap Shooting
ATTACH;FMTTYPE=image/jpeg:https://avfgclubinc.org/wp-content/uploads/2024/01/IMG_1098-scaled.jpeg
ORGANIZER;CN="Don Dodge":MAILTO:Avfgclub.secretary@gmail.com
END:VEVENT
BEGIN:VEVENT
DTSTART;TZID=America/New_York:20240218T110000
DTEND;TZID=America/New_York:20240218T123000
DTSTAMP:20260423T132527
CREATED:20240120T193129Z
LAST-MODIFIED:20240120T193129Z
UID:175-1708254000-1708259400@avfgclubinc.org
SUMMARY:Trap Shooting
DESCRIPTION:
URL:https://avfgclubinc.org/event/trap-shooting-7/
LOCATION:AVFG Club Range\, 1463 Wild Ammonoosuc Road\, Bath\, 03740\, United States
CATEGORIES:Trap Shooting
ATTACH;FMTTYPE=image/jpeg:https://avfgclubinc.org/wp-content/uploads/2024/01/IMG_1075-scaled.jpeg
ORGANIZER;CN="Don Dodge":MAILTO:Avfgclub.secretary@gmail.com
END:VEVENT
BEGIN:VEVENT
DTSTART;TZID=America/New_York:20240211T110000
DTEND;TZID=America/New_York:20240211T123000
DTSTAMP:20260423T132527
CREATED:20240120T192905Z
LAST-MODIFIED:20240120T192905Z
UID:173-1707649200-1707654600@avfgclubinc.org
SUMMARY:Trap Shooting
DESCRIPTION:
URL:https://avfgclubinc.org/event/trap-shooting-6/
LOCATION:AVFG Club Range\, 1463 Wild Ammonoosuc Road\, Bath\, 03740\, United States
CATEGORIES:Trap Shooting
ATTACH;FMTTYPE=image/jpeg:https://avfgclubinc.org/wp-content/uploads/2024/01/IMG_1075-scaled.jpeg
ORGANIZER;CN="Don Dodge":MAILTO:Avfgclub.secretary@gmail.com
END:VEVENT
BEGIN:VEVENT
DTSTART;TZID=America/New_York:20240211T110000
DTEND;TZID=America/New_York:20240211T123000
DTSTAMP:20260423T132527
CREATED:20240120T192135Z
LAST-MODIFIED:20240120T192135Z
UID:171-1707649200-1707654600@avfgclubinc.org
SUMMARY:Trap Shooting
DESCRIPTION:
URL:https://avfgclubinc.org/event/trap-shooting-5/
LOCATION:AVFG Club Range\, 1463 Wild Ammonoosuc Road\, Bath\, 03740\, United States
CATEGORIES:Trap Shooting
ORGANIZER;CN="Don Dodge":MAILTO:Avfgclub.secretary@gmail.com
END:VEVENT
BEGIN:VEVENT
DTSTART;TZID=Africa/Johannesburg:20240207T190000
DTEND;TZID=Africa/Johannesburg:20240207T200000
DTSTAMP:20260423T132527
CREATED:20240120T184942Z
LAST-MODIFIED:20240120T232738Z
UID:105-1707332400-1707336000@avfgclubinc.org
SUMMARY:February Monthly Meeting
DESCRIPTION:
URL:https://avfgclubinc.org/event/monthly-meeting/
LOCATION:American Legion Hall\, 4 Ammonoosuc Street\, Woodsville\, 03785\, United States
CATEGORIES:Monthly Meeting
ATTACH;FMTTYPE=image/jpeg:https://avfgclubinc.org/wp-content/uploads/2024/01/IMG_0365.jpeg
ORGANIZER;CN="Gary Griswold":MAILTO:AVFG club.secretary@gmail.com
END:VEVENT
BEGIN:VEVENT
DTSTART;TZID=America/New_York:20240204T110000
DTEND;TZID=America/New_York:20240204T123000
DTSTAMP:20260423T132527
CREATED:20240120T192025Z
LAST-MODIFIED:20240120T192617Z
UID:169-1707044400-1707049800@avfgclubinc.org
SUMMARY:Trap Shooting
DESCRIPTION:
URL:https://avfgclubinc.org/event/trap-shooting-4/
LOCATION:AVFG Club Range\, 1463 Wild Ammonoosuc Road\, Bath\, 03740\, United States
CATEGORIES:Trap Shooting
END:VEVENT
BEGIN:VEVENT
DTSTART;TZID=America/New_York:20240128T110000
DTEND;TZID=America/New_York:20240128T123000
DTSTAMP:20260423T132527
CREATED:20240120T190427Z
LAST-MODIFIED:20240120T190427Z
UID:125-1706439600-1706445000@avfgclubinc.org
SUMMARY:Trap Shooting
DESCRIPTION:
URL:https://avfgclubinc.org/event/trap-shooting-3/
LOCATION:AVFG Club Range\, 1463 Wild Ammonoosuc Road\, Bath\, 03740\, United States
CATEGORIES:Trap Shooting
ORGANIZER;CN="Don Dodge":MAILTO:Avfgclub.secretary@gmail.com
END:VEVENT
BEGIN:VEVENT
DTSTART;TZID=UTC:20240122T110000
DTEND;TZID=UTC:20240122T123000
DTSTAMP:20260423T132527
CREATED:20240120T192501Z
LAST-MODIFIED:20240120T184240Z
UID:126-1705921200-1705926600@avfgclubinc.org
SUMMARY:Trap Shooting
DESCRIPTION:
URL:https://avfgclubinc.org/event/trap-shooting-2/
LOCATION:AVFG Club Range\, 1463 Wild Ammonoosuc Road\, Bath\, 03740\, United States
CATEGORIES:Trap Shooting
ORGANIZER;CN="Don Dodge":MAILTO:Avfgclub.secretary@gmail.com
END:VEVENT
BEGIN:VEVENT
DTSTART;TZID=UTC:20240118T190000
DTEND;TZID=UTC:20240118T200000
DTSTAMP:20260423T132527
CREATED:20240119T000046Z
LAST-MODIFIED:20240120T190141Z
UID:113-1705604400-1705608000@avfgclubinc.org
SUMMARY:January Board of Directors Meeting
DESCRIPTION:Board meeting to review and vote on the changes to the By Laws\, Membership fees\, Range Rules\, 100th Anniversary\, Kids Fishing Derby
URL:https://avfgclubinc.org/event/january-board-of-directors-meeting/
LOCATION:American Legion Hall\, 4 Ammonoosuc Street\, Woodsville\, 03785\, United States
CATEGORIES:Board of Directors Meeting
END:VEVENT
BEGIN:VEVENT
DTSTART;TZID=UTC:20240103T190000
DTEND;TZID=UTC:20240103T200000
DTSTAMP:20260423T132527
CREATED:20240104T000032Z
LAST-MODIFIED:20240120T193405Z
UID:111-1704308400-1704312000@avfgclubinc.org
SUMMARY:January Monthly Meeting
DESCRIPTION:
URL:https://avfgclubinc.org/event/january-monthly-meeting/
LOCATION:American Legion Hall\, 4 Ammonoosuc Street\, Woodsville\, 03785\, United States
CATEGORIES:Monthly Meeting
ORGANIZER;CN="Gary Griswold":MAILTO:AVFG club.secretary@gmail.com
END:VEVENT
BEGIN:VEVENT
DTSTART;TZID=UTC:20231231T110000
DTEND;TZID=UTC:20231231T123000
DTSTAMP:20260423T132527
CREATED:20240120T190605Z
LAST-MODIFIED:20240120T185901Z
UID:115-1704020400-1704025800@avfgclubinc.org
SUMMARY:Trap Shooting
DESCRIPTION:Trap Shooting – depends on weather – email avfgclub.secretary@gmail.com to be added to the Group List. \n  \nAnn
URL:https://avfgclubinc.org/event/trap-shooting/
LOCATION:AVFG Club Range\, 1463 Wild Ammonoosuc Road\, Bath\, 03740\, United States
CATEGORIES:Trap Shooting
ATTACH;FMTTYPE=image/jpeg:https://avfgclubinc.org/wp-content/uploads/2024/01/IMG_1075-scaled.jpeg
ORGANIZER;CN="Don Dodge":MAILTO:Avfgclub.secretary@gmail.com
END:VEVENT
END:VCALENDAR