BEGIN:VCALENDAR
VERSION:2.0
PRODID:-//Ammonoosuc Valley Fish and Game Club - ECPv6.15.20//NONSGML v1.0//EN
CALSCALE:GREGORIAN
METHOD:PUBLISH
X-WR-CALNAME:Ammonoosuc Valley Fish and Game Club
X-ORIGINAL-URL:https://avfgclubinc.org
X-WR-CALDESC:Events for Ammonoosuc Valley Fish and Game Club
REFRESH-INTERVAL;VALUE=DURATION:PT1H
X-Robots-Tag:noindex
X-PUBLISHED-TTL:PT1H
BEGIN:VTIMEZONE
TZID:America/New_York
BEGIN:DAYLIGHT
TZOFFSETFROM:-0500
TZOFFSETTO:-0400
TZNAME:EDT
DTSTART:20230312T070000
END:DAYLIGHT
BEGIN:STANDARD
TZOFFSETFROM:-0400
TZOFFSETTO:-0500
TZNAME:EST
DTSTART:20231105T060000
END:STANDARD
BEGIN:DAYLIGHT
TZOFFSETFROM:-0500
TZOFFSETTO:-0400
TZNAME:EDT
DTSTART:20240310T070000
END:DAYLIGHT
BEGIN:STANDARD
TZOFFSETFROM:-0400
TZOFFSETTO:-0500
TZNAME:EST
DTSTART:20241103T060000
END:STANDARD
BEGIN:DAYLIGHT
TZOFFSETFROM:-0500
TZOFFSETTO:-0400
TZNAME:EDT
DTSTART:20250309T070000
END:DAYLIGHT
BEGIN:STANDARD
TZOFFSETFROM:-0400
TZOFFSETTO:-0500
TZNAME:EST
DTSTART:20251102T060000
END:STANDARD
END:VTIMEZONE
BEGIN:VEVENT
DTSTART;TZID=America/New_York:20240608T080000
DTEND;TZID=America/New_York:20240608T120000
DTSTAMP:20260423T173052
CREATED:20240120T191841Z
LAST-MODIFIED:20240120T191841Z
UID:166-1717833600-1717848000@avfgclubinc.org
SUMMARY:Kids Fishing Derby
DESCRIPTION:
URL:https://avfgclubinc.org/event/kids-fishing-derby/
LOCATION:AVFG Club House\, 1463 Wild Ammonoosuc Road\, Bath\, 03740\, United States
CATEGORIES:Kids Fishing Derby
ORGANIZER;CN="Don Clark":MAILTO:donclark603@gmail.com
END:VEVENT
END:VCALENDAR